BEGIN:VCALENDAR
VERSION:2.0
PRODID:nkc_event TYPO3 Extension
METHOD:PUBLISH
BEGIN:VEVENT
UID:7e16a075fba0c1cee390bc61daa3d791
LOCATION:Gemeindehaus der Marienkirche
SUMMARY:Transkulturelles und interreligiöses Lernhaus der Frauen in Bad Segeberg
DESCRIPTION:Bad Segeberg ist eine vielfältige Stadt\, in der Menschen aus vielen Kulturen zusammenleben. Diese Vielfalt ist eine große Bereicherung\, bringt aber auch Herausforderungen mit sich. Um Missverständnisse und Konflikte zu überwinden\, braucht es Menschen\, die Brücken bauen\, Verständnis fördern und den Dialog stärken.Ein Ort der BegegnungIm Lernhaus treffen sich Frauen mit und ohne Migrationsgeschichte\, mit und ohne religiöse Wurzeln\, mit unterschiedlichen Lebensgeschichten\, Fähigkeiten\, Fragen und Hoffnungen. Sie lernen über ein Jahr in monatlichen Treffen zusammen.Gemeinsam wachsenDie Teilnehmerinnen werden zu Dialogexpertinnen und Multiplikatorinnen ausgebildet und können ihre Fähigkeiten im beruflichen oder persönlichen Umfeld einsetzen.Mach mit!Werde Teil und gestalte Vielfalt aktiv mit.Alle Frauen sind willkommen!Offener Info-Abendam Di.\, 2. Juni um 17.00 UhrLernhausabende 2026/2027Jeweils 18.00 - 21.00 Uhr":"22. September\, 13. Oktober\, 25. November\, 8. Dezember\, 19. Januar\, 16. Februar\, 16. März\, 13. April\, 11. Mai\, 15. Juni\, 17. August\, 14. SeptemberOrt":" Gemeindehaus Marien\, Kirchplatz 4\, 23795 Bad SegebergKosten":" 20€ Teilnahmebeitrag\, Ermäßigung möglich - sprechen Sie uns gerne an.Anmeldung bis 1. September 2026":" oekumene@kirche-ps.de\, Tel. 04342 717 16Kontakt für Rückfragen":"Astrid Dethloff\, Flüchtlingsbeauftragte\, a.dethloff@kirche-ps.de\, Tel. 0173 2589778VeranstalterinEv.-Luth. Kirchenkreis Plön-SegebergIn Kooperation mit":"\nEv.-Luth. Kirchengemeinde Segeberg\nEv. Bildungswerk im Kirchenkreis Plön-Segeberg\nFamilienzentrum Südstadt\nForum für Migration\, Chancengleichheit und Vielfalt im Kreis Segeberg\nKatholische Pfarrei Seliger Eduard Müller\nGleichstellungsbeauftragte der Stadt Bad Segeberg\, \n
CLASS:PUBLIC
DTSTART:20260922T160000Z
DTEND:20270914T190000Z
DTSTAMP:20260425T143650Z
END:VEVENT

END:VCALENDAR