BEGIN:VCALENDAR
VERSION:2.0
PRODID:nkc_event TYPO3 Extension
METHOD:PUBLISH
BEGIN:VEVENT
UID:1e95b7a01425e7f8b66eccbc4eeb4376
LOCATION:Jerusalem-Kirche
SUMMARY:Gottesdienst (Christi Himmelfahrt)
DESCRIPTION:
CLASS:PUBLIC
DTSTART:20260514T080000Z
DTEND:20260514T090000Z
DTSTAMP:20260423T142435Z
END:VEVENT

END:VCALENDAR