BEGIN:VCALENDAR
VERSION:2.0
PRODID:nkc_event TYPO3 Extension
METHOD:PUBLISH
BEGIN:VEVENT
UID:ba1200ce3b0f585fdd2521bfec005f15
LOCATION:Gemeindehaus II
SUMMARY:ABENTEUERLAND
DESCRIPTION:
CLASS:PUBLIC
DTSTART:20260605T133000Z
DTEND:20260605T143000Z
DTSTAMP:20260425T112103Z
END:VEVENT

END:VCALENDAR