BEGIN:VCALENDAR
VERSION:2.0
PRODID:nkc_event TYPO3 Extension
METHOD:PUBLISH
BEGIN:VEVENT
UID:4779f5f836d721a3dcb160df393717bd
LOCATION:Ansgarwiese Haddeby
SUMMARY:Konfirmations Gottesdienst
DESCRIPTION:
CLASS:PUBLIC
DTSTART:20260524T123000Z
DTEND:20260524T133000Z
DTSTAMP:20260422T013823Z
END:VEVENT

END:VCALENDAR