BEGIN:VCALENDAR
VERSION:2.0
PRODID:nkc_event TYPO3 Extension
METHOD:PUBLISH
BEGIN:VEVENT
UID:e02d528ca8c87af40080d15bb91aba41
LOCATION:Feuerwehrhaus Willingrade
SUMMARY:Gottesdienst im Feuerwehrhaus Willingrade
DESCRIPTION:
CLASS:PUBLIC
DTSTART:20261212T140000Z
DTEND:20261212T150000Z
DTSTAMP:20260423T162132Z
END:VEVENT

END:VCALENDAR