BEGIN:VCALENDAR
VERSION:2.0
PRODID:nkc_event TYPO3 Extension
METHOD:PUBLISH
BEGIN:VEVENT
UID:6d5a565ad1a41b7ad95c16c12400bc39
LOCATION:Hauptkirche St. Jacobi
SUMMARY:Orgelkonzert Matthias Havinga (Amsterdam)
DESCRIPTION:Dieterich Buxtehude\, 1637–1707Praeludium in g BuxWV 149Jan Pieterszoon Sweelinck\, 1562–1621Christe qui lux es et dies SwWV 301Daan Manneke\, *1939Aleer het licht ten avond raakt – Bevor es Abend wirdVijf versetten op een Avondhymne – Fünf Verse über eine AbendhymneJan Welmers\, 1937–2022O grote Christus\, eeuwig licht – O großer Christus\, ewiges LichtHeinrich Scheidemann\, um 1596–1663Ein feste Burg ist unser GottMatthias Weckmann\, 1616–1674Magnificat secundi toniJohann Sebastian Bach\, 1685–1750Trio d-Moll BWV 583Fuga sopra il Magnificat BWV 733
CLASS:PUBLIC
DTSTART:20260707T180000Z
DTEND:20260707T190000Z
DTSTAMP:20260422T121048Z
END:VEVENT

END:VCALENDAR