BEGIN:VCALENDAR
VERSION:2.0
PRODID:nkc_event TYPO3 Extension
METHOD:PUBLISH
BEGIN:VEVENT
UID:2f7539c1200e92f4d477eb0a2302b2f7
LOCATION:Ev.-Luth. Kirchengemeinde Marschlande
SUMMARY:Sitzung des Kirchengemeinderats
DESCRIPTION:
CLASS:PUBLIC
DTSTART:20260813T170000Z
DTEND:20260813T180000Z
DTSTAMP:20260425T112020Z
END:VEVENT

END:VCALENDAR