BEGIN:VCALENDAR
VERSION:2.0
PRODID:nkc_event TYPO3 Extension
METHOD:PUBLISH
BEGIN:VEVENT
UID:e381fd3f91ec1bdcc4c5c8f70706d5df
LOCATION:Ev.-Luth. Kirchengemeinde St. Martin Oelixdorf-Itzehoe
SUMMARY:Gottesdienst am Teich
DESCRIPTION:
CLASS:PUBLIC
DTSTART:20260426T090000Z
DTEND:20260426T100000Z
DTSTAMP:20260423T165038Z
END:VEVENT

END:VCALENDAR