BEGIN:VCALENDAR
VERSION:2.0
PRODID:nkc_event TYPO3 Extension
METHOD:PUBLISH
BEGIN:VEVENT
UID:f1c24016cf9d4cd5abd69bfadfdbe78f
LOCATION:Kirche Handewitt
SUMMARY:Vorstellungsgottesdienst vom neuen Pastor
DESCRIPTION:Hanno Weber\, der neue Pastor für die Kirchengemeinde Handewitt\, wird vorgestellt. Anschließend laden wir ein zum Kennenlernen in gemütlicher Runde. 
CLASS:PUBLIC
DTSTART:20260510T120000Z
DTEND:20260510T130000Z
DTSTAMP:20260424T094825Z
END:VEVENT

END:VCALENDAR