BEGIN:VCALENDAR
VERSION:2.0
PRODID:nkc_event TYPO3 Extension
METHOD:PUBLISH
BEGIN:VEVENT
UID:1c4a7996665a6b4c82a5325a13747f60
LOCATION:Hauptkirche St. Katharinen
SUMMARY:Orgelmusik zur Mittagszeit
DESCRIPTION:Andreas Fischer u.a. spielen an der Barockorgel von St. Katharinen.Eintritt frei. Wir erbitten eine Kollekte in den Opferstock an der Wendeltreppe zugunsten der Orgel. Im Anschluss Orgelführung. Interessenten versammeln sich auf der Empore (über Wendeltreppe). Orgelmusik zur Mittagszeit immer mittwochs 12":"30 Uhr.
CLASS:PUBLIC
DTSTART:20250319T113000Z
DTEND:20250319T123000Z
DTSTAMP:20260424T083208Z
END:VEVENT

END:VCALENDAR