BEGIN:VCALENDAR
VERSION:2.0
PRODID:nkc_event TYPO3 Extension
METHOD:PUBLISH
BEGIN:VEVENT
UID:03fecb4649e0a7a640433388bcb30fae
LOCATION:St. Markus
SUMMARY:Kimmix – Kirche mit X-tras für Kinder mit X (IX – XII)
DESCRIPTION:
CLASS:PUBLIC
DTSTART:20260424T160000Z
DTEND:20260424T180000Z
DTSTAMP:20260422T104541Z
END:VEVENT

END:VCALENDAR