BEGIN:VCALENDAR
VERSION:2.0
PRODID:nkc_event TYPO3 Extension
METHOD:PUBLISH
BEGIN:VEVENT
UID:92d960a60a520439f67a7433935aee90
LOCATION:St. Trinitatis-Kirche Warlitz
SUMMARY:Orgelkonzert
DESCRIPTION:Es erklingen Orgelwerke von Wolfgang Carl Briegel (zum 400. Geburtstag)\, Georg Friedrich Händel\, Georg Philipp Telemann\, Johann Jacob Froberger\, Johann Gottfried Walther und Johann Sebastian Bach. Das Konzert widmet sich dem Gedenken an den 200. Geburtstag des Musikwissenschaftpioniers Friedrich Chrysander (1826 - 1901)
CLASS:PUBLIC
DTSTART:20260531T150000Z
DTEND:20260531T160000Z
DTSTAMP:20260421T131312Z
END:VEVENT

END:VCALENDAR