BEGIN:VCALENDAR
VERSION:2.0
PRODID:nkc_event TYPO3 Extension
METHOD:PUBLISH
BEGIN:VEVENT
UID:bdc633a4fd8f17179180be16adee8a61
LOCATION:Martin-Luther-Haus\, Kirchengemeinde Bornhöved
SUMMARY:Open-Air Gottesdienst vor dem Martin Luther-Haus\, zum Aufstellen des Maibaums auf dem Berliner Platz\, Pastorin Egener
DESCRIPTION:
CLASS:PUBLIC
DTSTART:20260501T073000Z
DTEND:20260501T083000Z
DTSTAMP:20260423T172215Z
END:VEVENT

END:VCALENDAR