BEGIN:VCALENDAR
VERSION:2.0
PRODID:nkc_event TYPO3 Extension
METHOD:PUBLISH
BEGIN:VEVENT
UID:5bf7c8b340f24c4101787a3a1844d6e3
LOCATION:Gemeindehaus Johannes
SUMMARY:KONTAKT-Team
DESCRIPTION:Musik - Impulse - Begegnung
CLASS:PUBLIC
DTSTART:20260509T150000Z
DTEND:20260509T160000Z
DTSTAMP:20260425T112038Z
END:VEVENT

END:VCALENDAR