BEGIN:VCALENDAR
VERSION:2.0
PRODID:nkc_event TYPO3 Extension
METHOD:PUBLISH
BEGIN:VEVENT
UID:3283798d91f3c381ebe7b93675cca00d
LOCATION:Gemeindehaus II
SUMMARY:ABENTEUERLAND
DESCRIPTION:
CLASS:PUBLIC
DTSTART:20260417T133000Z
DTEND:20260417T143000Z
DTSTAMP:20260423T093038Z
END:VEVENT

END:VCALENDAR