BEGIN:VCALENDAR
VERSION:2.0
PRODID:nkc_event TYPO3 Extension
METHOD:PUBLISH
BEGIN:VEVENT
UID:c631725ab9e866c9e83445d6556afec8
LOCATION:Auferstehungskirche
SUMMARY:Verdi Requiem
DESCRIPTION:
CLASS:PUBLIC
DTSTART:20261003T160000Z
DTEND:20261003T170000Z
DTSTAMP:20260419T151004Z
END:VEVENT

END:VCALENDAR