BEGIN:VCALENDAR
VERSION:2.0
PRODID:nkc_event TYPO3 Extension
METHOD:PUBLISH
BEGIN:VEVENT
UID:04d38059197f7e588d4ce0caa1f642f4
LOCATION:St. Marien-Kirche
SUMMARY:Kirchenführung":" Geschichte\, Kunst und Glaube
DESCRIPTION:Ein Gang durch die Jahrhunderte – Kirchenführung durch St. Marien Die Kirche St.Marien\, die Kirche der Seefahrer und Handelsleute\, öffnet sich dem Besucher mit einem unerwarteten Raumerlebnis – mit ihrer Weite\, der Stille und den Farben und Formen ihrer Kunstwerke. Und doch ist die Kirche kein Museum\, sondern Ausdruck christlicher Glaubensvorstellungen in ihrer jeweiligen Entstehungszeit. Die Bilder\, die Symbole sind faszinierend\, oft rätselhaft und in einer Kirchenführung wird versucht\, sie den Besuchern zu erläutern\, sie vor dem christlichen Hintergrund zu deuten. Da ist u.a. der bildreiche\, prachtvolle Altar\, die Gedenkbilder\, die Epitaphien\, für verdienstvolle Flensburger Bürger oder die eindrucksvollen Fenster\, geschaffen von der einheimischen Künstlerin Käte Lassen\, den Schritten des Glaubensbekenntnisses folgend. 
CLASS:PUBLIC
DTSTART:20270220T100000Z
DTEND:20270220T104500Z
DTSTAMP:20260423T085400Z
END:VEVENT

END:VCALENDAR