BEGIN:VCALENDAR
VERSION:2.0
PRODID:nkc_event TYPO3 Extension
METHOD:PUBLISH
BEGIN:VEVENT
UID:02365a8620d5bce2feffc42fc4f9555b
LOCATION:Christuskirche Mürwik
SUMMARY:Pfadfinder Stamm nordFlues
DESCRIPTION:Spannende Outdoor AktivitätenLagerfeuer und ZeltenNeue FreundschaftenKreative Projekte und SpieleLernen fürs Leben
CLASS:PUBLIC
DTSTART:20260420T140000Z
DTEND:20260420T153000Z
DTSTAMP:20260420T114727Z
END:VEVENT

END:VCALENDAR