BEGIN:VCALENDAR
VERSION:2.0
PRODID:nkc_event TYPO3 Extension
METHOD:PUBLISH
BEGIN:VEVENT
UID:d2f156f30c0d8de2c4e6eb8519fbf978
LOCATION:Erlöserkirche Borgfelde
SUMMARY:IGS Internationaler Gospel Gottesdienst
DESCRIPTION:
CLASS:PUBLIC
DTSTART:20260614T090000Z
DTEND:20260614T100000Z
DTSTAMP:20260420T152054Z
END:VEVENT

END:VCALENDAR