BEGIN:VCALENDAR
VERSION:2.0
PRODID:nkc_event TYPO3 Extension
METHOD:PUBLISH
BEGIN:VEVENT
UID:42ba163a9b5c57c06eccaeda36fe78ad
LOCATION:St. Marien
SUMMARY:Entdecke St. Marien - Führung\, guided tour
DESCRIPTION:Deine kostenlose Entdeckungsreise durch die drittgrößte Kirche Deutschlands\, das höchste Backsteingewölbe der Welt - diese Führung führt Dich in eine sehr besondere Atmosphäre!Treffen an der Kanzel.Wir freuen uns über eine Spende zum Erhalt der Marienkirche. 
CLASS:PUBLIC
DTSTART:20260422T101500Z
DTEND:20260422T111500Z
DTSTAMP:20260420T144132Z
END:VEVENT

END:VCALENDAR