BEGIN:VCALENDAR
VERSION:2.0
PRODID:nkc_event TYPO3 Extension
METHOD:PUBLISH
BEGIN:VEVENT
UID:6fa75b8dacdfe0d905791bda968f477c
LOCATION:St. Christian
SUMMARY:Musikalischer Gottesdienst mit Chor unter der Leitung von Kantorin Elisabeth Weisenberger in Garding\, Prädikant Dr. Chlaus-Peter Lorenzen
DESCRIPTION:Musikalischer Gottesdienst zum Sonntag Kantate. Es musizieren die Kantorei und der Posaunenchor unter der Leitung von Elisabeth Weisenberger
CLASS:PUBLIC
DTSTART:20260503T081500Z
DTEND:20260503T091500Z
DTSTAMP:20260425T010533Z
END:VEVENT

END:VCALENDAR