BEGIN:VCALENDAR
VERSION:2.0
PRODID:nkc_event TYPO3 Extension
METHOD:PUBLISH
BEGIN:VEVENT
UID:961f7c2d04f61284dd6b41a207fea0fa
LOCATION:St. Martin Kirche Steinbergkirche
SUMMARY:Gottesdienst in St. Martin zu Steinberg
DESCRIPTION:
CLASS:PUBLIC
DTSTART:20260510T080000Z
DTEND:20260510T090000Z
DTSTAMP:20260422T110339Z
END:VEVENT

END:VCALENDAR