BEGIN:VCALENDAR
VERSION:2.0
PRODID:nkc_event TYPO3 Extension
METHOD:PUBLISH
BEGIN:VEVENT
UID:3e12947fad681be1985ce90de986390e
LOCATION:St. Petri
SUMMARY:Petrivision – KONTAKT wählen
DESCRIPTION:Die Petrivision beschäftigt sich literarisch-darstellerisch\, musikalisch und theologisch-philosophisch am ersten Samstag im Monat mit Themen aus Gesellschaft\, Kunst und Wissenschaft.  
CLASS:PUBLIC
DTSTART:20260606T210000Z
DTEND:20260606T215900Z
DTSTAMP:20260423T141804Z
END:VEVENT

END:VCALENDAR