BEGIN:VCALENDAR
VERSION:2.0
PRODID:nkc_event TYPO3 Extension
METHOD:PUBLISH
BEGIN:VEVENT
UID:0b2cbb8334ca9df82a32c8bdd0ef0dba
LOCATION:Ev.-Luth. Kirchengemeinde Jevenstedt
SUMMARY:Tafelausgabe
DESCRIPTION:
CLASS:PUBLIC
DTSTART:20260421T110000Z
DTEND:20260421T120000Z
DTSTAMP:20260421T174103Z
END:VEVENT

END:VCALENDAR