BEGIN:VCALENDAR
VERSION:2.0
PRODID:nkc_event TYPO3 Extension
METHOD:PUBLISH
BEGIN:VEVENT
UID:be0c0d5e5612be3e9baf3f53daea2114
LOCATION:Stellinger Kirche
SUMMARY:Andacht zur Sterbestunde Jesu
DESCRIPTION:
CLASS:PUBLIC
DTSTART:20260403T130000Z
DTEND:20260403T140000Z
DTSTAMP:20260420T104920Z
END:VEVENT

END:VCALENDAR