BEGIN:VCALENDAR
VERSION:2.0
PRODID:nkc_event TYPO3 Extension
METHOD:PUBLISH
BEGIN:VEVENT
UID:8009435c1cf5ffc2e2be87bad73128fe
LOCATION:Strand in Strande
SUMMARY:Strandtrauungen
DESCRIPTION:Auch in diesem Jahr bieten wir Euch die Möglichkeit an\, spontan am Strander Strand DQUOTEJADQUOTE zu sagen. Bringt bitte Ausweispapiere mit.Falls Ihr es doch plant\, meldet Euch gerne im Kirchenbüro anTel.":" 0431-8839930Mail kontakt@kompass-kirche.de
CLASS:PUBLIC
DTSTART:20260516T090000Z
DTEND:20260516T120000Z
DTSTAMP:20260425T112420Z
END:VEVENT

END:VCALENDAR