BEGIN:VCALENDAR
VERSION:2.0
PRODID:nkc_event TYPO3 Extension
METHOD:PUBLISH
BEGIN:VEVENT
UID:ad8d0a9a94a09c0595695f8ba37e4a09
LOCATION:Mühle DQUOTEHoffnungDQUOTE
SUMMARY:Regionalgottesdienst der Förderegion am Pfingstmontag mit Pastorin Sabrina Biehl
DESCRIPTION:
CLASS:PUBLIC
DTSTART:20260525T090000Z
DTEND:20260525T100000Z
DTSTAMP:20260426T021907Z
END:VEVENT

END:VCALENDAR