BEGIN:VCALENDAR
VERSION:2.0
PRODID:nkc_event TYPO3 Extension
METHOD:PUBLISH
BEGIN:VEVENT
UID:4e3ce94d46aee2cc37bac8923954514a
LOCATION:Ev.-Luth. Kirchengemeinde Bornhöved
SUMMARY:Open-Air Gottesdienst  auf dem Festplatz zum Maibaumaufstellen\, Pastorin Egener
DESCRIPTION:
CLASS:PUBLIC
DTSTART:20250501T073000Z
DTEND:20250501T083000Z
DTSTAMP:20260423T113720Z
END:VEVENT

END:VCALENDAR