BEGIN:VCALENDAR
VERSION:2.0
PRODID:nkc_event TYPO3 Extension
METHOD:PUBLISH
BEGIN:VEVENT
UID:9ecf85561c11da46b7dd60f6d0758ec2
LOCATION:Ev.-Luth. Thomas-Kirchengemeinde Kiel-Mettenhof
SUMMARY:Neue Konfirmandenzeit - Info-Abend
DESCRIPTION:Nach den Sommerferien beginnt eine neue Konfirmandenzeit für Jugendliche\, die im Jahr 2027 das 14. Lebensjahr vollenden und im nächsten Jahr konfirmiert werden möchten.Zum Info-Abend am Mittwoch\, 17. Juni sind Jugendliche mit ihren Eltern eingeladen. Es werden an diesem Abend auch die Unterlagen für die Anmeldung zur neuen Konfirmandenzeit ausgegeben.
CLASS:PUBLIC
DTSTART:20260617T160000Z
DTEND:20260617T170000Z
DTSTAMP:20260422T013838Z
END:VEVENT

END:VCALENDAR