BEGIN:VCALENDAR
VERSION:2.0
PRODID:nkc_event TYPO3 Extension
METHOD:PUBLISH
BEGIN:VEVENT
UID:dac5576ffb3194d4079a296c111b5358
LOCATION:Marktkirche
SUMMARY:Orgelkonzert
DESCRIPTION:
CLASS:PUBLIC
DTSTART:20260614T160000Z
DTEND:20260614T170000Z
DTSTAMP:20260422T121312Z
END:VEVENT

END:VCALENDAR