BEGIN:VCALENDAR
VERSION:2.0
PRODID:nkc_event TYPO3 Extension
METHOD:PUBLISH
BEGIN:VEVENT
UID:0c1cdf7d88b129d630009c45da9bd370
LOCATION:Handwerkermarkt Süderschmedeby
SUMMARY:Gottesdienst zum Kunsthandwerker-Markt
DESCRIPTION:
CLASS:PUBLIC
DTSTART:20260524T073000Z
DTEND:20260524T081500Z
DTSTAMP:20260420T162848Z
END:VEVENT

END:VCALENDAR