BEGIN:VCALENDAR
VERSION:2.0
PRODID:nkc_event TYPO3 Extension
METHOD:PUBLISH
BEGIN:VEVENT
UID:e73eea7822fd7c2ef6f0328e4e9583bc
LOCATION:Christophorushaus
SUMMARY:Rogate im Christophorushaus in Schnelsen
DESCRIPTION:Wir sind noch immer in der feierlichen Osterzeit! Diese endet nämlich erst mit dem Pfingstsonntag. Heute wollen wir beten. Wer jetzt schon mehr wissen möchte\, kann sich vorab einlesen.Hier wird Rogate erklärt":" https":"//kirchenjahr-evangelisch.de/rogate
CLASS:PUBLIC
DTSTART:20260510T090000Z
DTEND:20260510T100000Z
DTSTAMP:20260423T141826Z
END:VEVENT

END:VCALENDAR