BEGIN:VCALENDAR
VERSION:2.0
PRODID:nkc_event TYPO3 Extension
METHOD:PUBLISH
BEGIN:VEVENT
UID:655a1bca74776571a6362d50332f1b7d
LOCATION:Familien-Bildungsstätte Bad Oldesloe
SUMMARY:Sixtyniner-Chor
DESCRIPTION:
CLASS:PUBLIC
DTSTART:20270701T150000Z
DTEND:20270701T173000Z
DTSTAMP:20260420T152551Z
END:VEVENT

END:VCALENDAR