BEGIN:VCALENDAR
VERSION:2.0
PRODID:nkc_event TYPO3 Extension
METHOD:PUBLISH
BEGIN:VEVENT
UID:22e7f4d871c8dcafebcd5401d8c1ddf1
LOCATION:Stadtkirche
SUMMARY:Marktmusik
DESCRIPTION:
CLASS:PUBLIC
DTSTART:20260424T090000Z
DTEND:20260424T100000Z
DTSTAMP:20260424T034600Z
END:VEVENT

END:VCALENDAR