BEGIN:VCALENDAR
VERSION:2.0
PRODID:nkc_event TYPO3 Extension
METHOD:PUBLISH
BEGIN:VEVENT
UID:d213f9bcb900f817828420ffe8b8de21
LOCATION:Gemeindehaus am Rockenhof
SUMMARY:Klön-Frühstück auf dem Rockenhof
DESCRIPTION:Manchmal tut es einfach gut\, gemeinsam am Tisch zu sitzen – bei einer heißen Tasse Kaffee\, frischen Brötchen und netten Gesprächen. Deshalb laden wir herzlich ein zu unserem offenen Frühstück!Immer am letzten Mittwoch im Monat treffen wir uns im Gemeindehaus\, um in gemütlicher Runde miteinander zu essen\, zu plaudern\, neue Menschen kennenzulernen oder einfach nur da zu sein und zuzuhören.Niemand muss sich anmelden – kommen Sie einfach vorbei und genießen Sie den Vormittag in angenehmer Runde.Leitung":" Gunhild Lippmann und Susanne Blessenohl
CLASS:PUBLIC
DTSTART:20260325T083000Z
DTEND:20260325T100000Z
DTSTAMP:20260420T105255Z
END:VEVENT

END:VCALENDAR