BEGIN:VCALENDAR
VERSION:2.0
PRODID:nkc_event TYPO3 Extension
METHOD:PUBLISH
BEGIN:VEVENT
UID:99ee14df6b4027e7a5a08b0194fdbfdc
LOCATION:St.Laurentius-Kirche in Kosel
SUMMARY:Morgenlob
DESCRIPTION:
CLASS:PUBLIC
DTSTART:20260519T073000Z
DTEND:20260519T083000Z
DTSTAMP:20260426T032238Z
END:VEVENT

END:VCALENDAR