BEGIN:VCALENDAR
VERSION:2.0
PRODID:nkc_event TYPO3 Extension
METHOD:PUBLISH
BEGIN:VEVENT
UID:d351276375eb0f7b8879fedc318b2c81
LOCATION:St. Jürgen-Kirche (Friedensgemeinde Kiel)
SUMMARY:Stille Andacht
DESCRIPTION:Die St. Jürgen-Kirche ist immer mittwochs ab 18.00 Uhr geöffnet zur stillen Andacht
CLASS:PUBLIC
DTSTART:20250625T160000Z
DTEND:20250625T170000Z
DTSTAMP:20260423T085342Z
END:VEVENT

END:VCALENDAR