BEGIN:VCALENDAR
VERSION:2.0
PRODID:nkc_event TYPO3 Extension
METHOD:PUBLISH
BEGIN:VEVENT
UID:74499db4d00615b868602838fed59172
LOCATION:St. Marien - Schmerzhafte Mutter
SUMMARY:Hl. Messe
DESCRIPTION:
CLASS:PUBLIC
DTSTART:20260422T160000Z
DTEND:20260422T170000Z
DTSTAMP:20260420T043902Z
END:VEVENT

END:VCALENDAR