BEGIN:VCALENDAR
VERSION:2.0
PRODID:nkc_event TYPO3 Extension
METHOD:PUBLISH
BEGIN:VEVENT
UID:ab3360dff7a028fb628768ae5bcaae27
LOCATION:St. Andreas Kirche Haddeby
SUMMARY:63. You Go Haddeby
DESCRIPTION:
CLASS:PUBLIC
DTSTART:20260522T163000Z
DTEND:20260522T173000Z
DTSTAMP:20260422T015654Z
END:VEVENT

END:VCALENDAR