BEGIN:VCALENDAR
VERSION:2.0
PRODID:nkc_event TYPO3 Extension
METHOD:PUBLISH
BEGIN:VEVENT
UID:4c0ea7ce8778a893f210e2d1692c4fa4
LOCATION:St. Laurentius-Kirche zu Munkbrarup
SUMMARY:SONGS FOR FREEDOM
DESCRIPTION:Wir laden herzlich ein zu einem Mitsingkonzert mit der Chorgemeinschaft Westerholz und dem Musik-Team St. Marien aus Flensburg mit Christin Kelm\, Maja Rothhardt\, Rainer Rafalsky und Werner Schillies.Mit Texten\, Liedern und Songs rund um das Thema Freiheit von Bob Dylan\, John Lennon\, Nena\, Udo Lindenberg\, Peter Janssen\, Wolf Biermann\, u.a.
CLASS:PUBLIC
DTSTART:20250321T180000Z
DTEND:20250321T190000Z
DTSTAMP:20260425T184954Z
END:VEVENT

END:VCALENDAR