BEGIN:VCALENDAR
VERSION:2.0
PRODID:nkc_event TYPO3 Extension
METHOD:PUBLISH
BEGIN:VEVENT
UID:dc61af0df3fbb8581b2001a46adf03cc
LOCATION:Gemeindehaus II
SUMMARY:ABENTEUERLAND
DESCRIPTION:
CLASS:PUBLIC
DTSTART:20260710T133000Z
DTEND:20260710T143000Z
DTSTAMP:20260425T112032Z
END:VEVENT

END:VCALENDAR