BEGIN:VCALENDAR
VERSION:2.0
PRODID:nkc_event TYPO3 Extension
METHOD:PUBLISH
BEGIN:VEVENT
UID:b591277c5f0722896f2f3ffbbc12ad21
LOCATION:St. Marien-Kirche
SUMMARY:Gottesdienst in der St. Marien-Kirche und anschl. Gemeindeversammlung im Haus der Kirche
DESCRIPTION:Im Anschluss an den Gottesdienst lädt der Kirchengemeinderat ins Haus der Kirche zur Gemeindeversammlung ein. Bevor sie beginnt\, können alle sich mit einer Suppe stärken.In der Gemeindeversammlung informiert der Kirchengemeinderat über seine Arbeit und die Gemeindeglieder haben die Möglichkeit Fragen und Anträge zu stellen. Die Vorläufige Tagesordnung":" 1. Begrüßung und Wahl einer Versammlungsleitung2. Bericht aus der Arbeit des Kirchengemeinderates3. ...........Der Kirchengemeinderat freut sich\, wenn Sie teilnehmen. Für das leibliche Wohl wird gesorgt sein. Herzlich willkommen! 
CLASS:PUBLIC
DTSTART:20261108T100000Z
DTEND:20261108T110000Z
DTSTAMP:20260422T141816Z
END:VEVENT

END:VCALENDAR