BEGIN:VCALENDAR
VERSION:2.0
PRODID:nkc_event TYPO3 Extension
METHOD:PUBLISH
BEGIN:VEVENT
UID:c09d67a6e8c8be7979c8ecae0b730cd8
LOCATION:Gemeindehaus I
SUMMARY:Kinderchor ab 5 Jahren
DESCRIPTION:
CLASS:PUBLIC
DTSTART:20260514T133000Z
DTEND:20260514T143000Z
DTSTAMP:20260420T080647Z
END:VEVENT

END:VCALENDAR