BEGIN:VCALENDAR
VERSION:2.0
PRODID:nkc_event TYPO3 Extension
METHOD:PUBLISH
BEGIN:VEVENT
UID:f6433c7685a72da11c4a3abd074f81bc
LOCATION:AKN Bahnhof Quickborn
SUMMARY:KuK - Maria Lassing und Edvard Munch
DESCRIPTION:Erstmalig werden Bilder dieser beiden Maler in einer gemeinsamen Ausstellung dargeboten. Der einzigartige Umgang mit Farbe sowie die lebendige Pinselführung wie auch die freien Experimente der Mal technik verbindet die beiden Künstler in ihrer Gestaltungs- und Ausdrucksweise. Die Unterschiede gehen dabei nicht ver lorenTreffen":" 9":"30 Uhr AKN-Bahnhof QuickbornKosten":" 30 €/Person Anmeldung bis zum 12.05.2026 im Kirchenbüro (04106-4212)Bezahlung":"Konto":" Ev.-Luth. Kirchenkreis Hamburg-West/SüdholsteinIBAN ":" DE 63 5206 0410 7406 4900 34Verwendungszweck":" D3340 -Kunsthalle HH- Name der/s Teilnehmer/s
CLASS:PUBLIC
DTSTART:20260519T073000Z
DTEND:20260519T083000Z
DTSTAMP:20260424T123659Z
END:VEVENT

END:VCALENDAR