BEGIN:VCALENDAR
VERSION:2.0
PRODID:nkc_event TYPO3 Extension
METHOD:PUBLISH
BEGIN:VEVENT
UID:70382c4fbec5c7f5407a6832688e9181
LOCATION:St. Annen Kirche zu Herzhorn
SUMMARY:Gottesdienst
DESCRIPTION:Gottesdienst mit Felix von Gehren-Leweke
CLASS:PUBLIC
DTSTART:20260517T080000Z
DTEND:20260517T090000Z
DTSTAMP:20260423T220642Z
END:VEVENT

END:VCALENDAR