BEGIN:VCALENDAR
VERSION:2.0
PRODID:nkc_event TYPO3 Extension
METHOD:PUBLISH
BEGIN:VEVENT
UID:9e7d39d3e3f2571c3b890d11b444d010
LOCATION:Aktivitätshaus
SUMMARY:Pfingstsonntag/Godi im Aktivitätshaus Gartenstadt/Pn. Schulze-Kösterke/Café
DESCRIPTION:Gottesdienst im Aktivitätshaus in der Gartenstadt\, Pfauenaugenhof 4 mit Pn. Schulze-Kösterke. Im Anschluss gibt es Kaffee
CLASS:PUBLIC
DTSTART:20260524T080000Z
DTEND:20260524T090000Z
DTSTAMP:20260424T140223Z
END:VEVENT

END:VCALENDAR