BEGIN:VCALENDAR
VERSION:2.0
PRODID:nkc_event TYPO3 Extension
METHOD:PUBLISH
BEGIN:VEVENT
UID:1ee2dee02c3d53ca68af82b8adfc36b0
LOCATION:St. Marien Sörup
SUMMARY:Festgottesdienst zur Konfirmation
DESCRIPTION:
CLASS:PUBLIC
DTSTART:20260425T090000Z
DTEND:20260425T100000Z
DTSTAMP:20260422T105014Z
END:VEVENT

END:VCALENDAR