BEGIN:VCALENDAR
VERSION:2.0
PRODID:nkc_event TYPO3 Extension
METHOD:PUBLISH
BEGIN:VEVENT
UID:4563965bec97c62e2c02fe3ac488984f
LOCATION:Kirche am Rockenhof
SUMMARY:Orgelkonzert
DESCRIPTION:
CLASS:PUBLIC
DTSTART:20260524T150000Z
DTEND:20260524T160000Z
DTSTAMP:20260422T121009Z
END:VEVENT

END:VCALENDAR