BEGIN:VCALENDAR
VERSION:2.0
PRODID:nkc_event TYPO3 Extension
METHOD:PUBLISH
BEGIN:VEVENT
UID:b196f0df95a79f14a6166544079b54b6
LOCATION:St. Marien
SUMMARY:Entfällt! Entdecke St. Marien - Führung\, guided tour
DESCRIPTION:Deine kostenlose Entdeckungsreise durch die drittgrößte Kirche Deutschlands\, das höchste Backsteingewölbe der Welt - diese Führung führt Dich in eine sehr besondere Atmosphäre!Treffen an der Kanzel.Wir freuen uns über eine Spende zum Erhalt der Marienkirche. 
CLASS:PUBLIC
DTSTART:20260420T130000Z
DTEND:20260420T140000Z
DTSTAMP:20260422T105015Z
END:VEVENT

END:VCALENDAR