BEGIN:VCALENDAR
VERSION:2.0
PRODID:nkc_event TYPO3 Extension
METHOD:PUBLISH
BEGIN:VEVENT
UID:253662f115edc465875bffc0c172f54b
LOCATION:Offene Kirche St. Nikolai in Kiel
SUMMARY:AnsprechBar
DESCRIPTION:In der AnsprechBar finden Sie ein offenes Ohr für Ihre Gedanken\, Fragen oder Sorgen\, für die kleinen und großen Geschichten\, die erzählt und gehört werden möchten.An jedem Donnerstag finden Sie zwischen 12":"30 und 14":"30 Uhr vor dem Raum der Stille eine*n Seelsorger*in mit Zeit für Sie.Herzlich willkommen!Darüber hinaus können Sie natürlich jederzeit Kontakt zu uns aufnehmen\, um Gesprächstermine zu verabreden":"Pastorin Charlotte Hartwig":"Mobil":" 0176-10414129Mail":" p.hartwig@st-nikolai-kiel.dePastorin Maren SchmidtMobil":" 0151-74118358Mail":" schmidt.nikolai@altholstein.de
CLASS:PUBLIC
DTSTART:20260611T103000Z
DTEND:20260611T123000Z
DTSTAMP:20260423T041433Z
END:VEVENT

END:VCALENDAR